BEGIN:VCALENDAR
VERSION:2.0
PRODID:-//TicketLinc Events Calendar//ticketlinc.co.bw//
BEGIN:VEVENT
SUMMARY:EASTER SUNDAY BRUNCH
DTSTART:20260405T100000Z
DTEND:20260405T210000Z
DTSTAMP:20260420T045500Z
UID:176T648791362.events.bw.co.ticketlinc
LOCATION:Joy City Park
END:VEVENT
END:VCALENDAR
