BEGIN:VCALENDAR
VERSION:2.0
PRODID:-//TicketLinc Events Calendar//ticketlinc.co.bw//
BEGIN:VEVENT
SUMMARY:LUCARA BOTSWANA GM's CYCLING CHALLENGE 2026
DTSTART:20260726T040000Z
DTEND:20260726T080000Z
DTSTAMP:20260421T123800Z
UID:185T403255357.events.bw.co.ticketlinc
LOCATION:Letlhakane
END:VEVENT
END:VCALENDAR
