BEGIN:VCALENDAR
VERSION:2.0
PRODID:-//TicketLinc Events Calendar//ticketlinc.co.bw//
BEGIN:VEVENT
SUMMARY:NALEDI CHARITY RUN 2026
DTSTART:20260524T040000Z
DTEND:20260524T100000Z
DTSTAMP:20260420T050000Z
UID:191T400710648.events.bw.co.ticketlinc
LOCATION:Game City Parking Lot
END:VEVENT
END:VCALENDAR
