BEGIN:VCALENDAR
VERSION:2.0
PRODID:-//TicketLinc Events Calendar//ticketlinc.co.bw//
BEGIN:VEVENT
SUMMARY:JWANENG MINE GM'S CHARITY CYCLE CHALLENGE
DTSTART:20260607T040000Z
DTEND:20260607T100000Z
DTSTAMP:20260421T181400Z
UID:193T318790041.events.bw.co.ticketlinc
END:VEVENT
END:VCALENDAR
