BEGIN:VCALENDAR
VERSION:2.0
PRODID:-//TicketLinc Events Calendar//ticketlinc.co.bw//
BEGIN:VEVENT
SUMMARY:THE GATHERING OF SAINTS WORSHIP EXTRAVAGANZA
DTSTART:20260529T160000Z
DTEND:20260529T210000Z
DTSTAMP:20260423T155900Z
UID:194T336220413.events.bw.co.ticketlinc
LOCATION:Enko Botho\, Block 7\, Gaborone
END:VEVENT
END:VCALENDAR
