BEGIN:VCALENDAR
VERSION:2.0
PRODID:-//TicketLinc Events Calendar//ticketlinc.co.bw//
BEGIN:VEVENT
SUMMARY:NHABE INTERNATIONAL MARATHON
DTSTART:20260926T030000Z
DTEND:20260926T100000Z
DTSTAMP:20260424T160800Z
UID:195T190144283.events.bw.co.ticketlinc
LOCATION:Maun\, Botswana
END:VEVENT
END:VCALENDAR
