BEGIN:VCALENDAR
VERSION:2.0
PRODID:-//TicketLinc Events Calendar//ticketlinc.co.bw//
BEGIN:VEVENT
SUMMARY:HILTON GARDEN INN 6TH YEAR ANNIVERSARY FUN RUN
DTSTART:20250308T030000Z
DTEND:20250308T080000Z
DTSTAMP:20260422T103100Z
UID:68T254553755.events.bw.co.ticketlinc
LOCATION:Hilton Garden Inn CBD
END:VEVENT
END:VCALENDAR
